BEGIN:VCALENDAR
VERSION:2.0
PRODID:-//Global Engagement Office - ECPv6.15.17//NONSGML v1.0//EN
CALSCALE:GREGORIAN
METHOD:PUBLISH
X-WR-CALNAME:Global Engagement Office
X-ORIGINAL-URL:https://global.uncg.edu
X-WR-CALDESC:Events for Global Engagement Office
REFRESH-INTERVAL;VALUE=DURATION:PT1H
X-Robots-Tag:noindex
X-PUBLISHED-TTL:PT1H
BEGIN:VTIMEZONE
TZID:America/New_York
BEGIN:DAYLIGHT
TZOFFSETFROM:-0500
TZOFFSETTO:-0400
TZNAME:EDT
DTSTART:20230312T070000
END:DAYLIGHT
BEGIN:STANDARD
TZOFFSETFROM:-0400
TZOFFSETTO:-0500
TZNAME:EST
DTSTART:20231105T060000
END:STANDARD
BEGIN:DAYLIGHT
TZOFFSETFROM:-0500
TZOFFSETTO:-0400
TZNAME:EDT
DTSTART:20240310T070000
END:DAYLIGHT
BEGIN:STANDARD
TZOFFSETFROM:-0400
TZOFFSETTO:-0500
TZNAME:EST
DTSTART:20241103T060000
END:STANDARD
BEGIN:DAYLIGHT
TZOFFSETFROM:-0500
TZOFFSETTO:-0400
TZNAME:EDT
DTSTART:20250309T070000
END:DAYLIGHT
BEGIN:STANDARD
TZOFFSETFROM:-0400
TZOFFSETTO:-0500
TZNAME:EST
DTSTART:20251102T060000
END:STANDARD
BEGIN:DAYLIGHT
TZOFFSETFROM:-0500
TZOFFSETTO:-0400
TZNAME:EDT
DTSTART:20260308T070000
END:DAYLIGHT
BEGIN:STANDARD
TZOFFSETFROM:-0400
TZOFFSETTO:-0500
TZNAME:EST
DTSTART:20261101T060000
END:STANDARD
BEGIN:DAYLIGHT
TZOFFSETFROM:-0500
TZOFFSETTO:-0400
TZNAME:EDT
DTSTART:20270314T070000
END:DAYLIGHT
BEGIN:STANDARD
TZOFFSETFROM:-0400
TZOFFSETTO:-0500
TZNAME:EST
DTSTART:20271107T060000
END:STANDARD
END:VTIMEZONE
BEGIN:VEVENT
DTSTART;TZID=America/New_York:20260415T120000
DTEND;TZID=America/New_York:20260415T130000
DTSTAMP:20260419T084113
CREATED:20251030T182025Z
LAST-MODIFIED:20251030T182027Z
UID:10000024-1776254400-1776258000@global.uncg.edu
SUMMARY:Lunch and Learn: Analysis of Deaf Students’ Experiences in Sign Language Interpreter-Mediated Classroom in Public Universities in Ghana
DESCRIPTION:
URL:https://global.uncg.edu/event/lunch-and-learn-analysis-of-deaf-students-experiences-in-sign-language-interpreter-mediated-classroom-in-public-universities-in-ghana/
LOCATION:Foust 206\, 1010 Administration Dr\, Greensboro\, North Carolina\, 27412
END:VEVENT
BEGIN:VEVENT
DTSTART;TZID=America/New_York:20260408T080000
DTEND;TZID=America/New_York:20260408T170000
DTSTAMP:20260419T084113
CREATED:20260220T214804Z
LAST-MODIFIED:20260220T214807Z
UID:10000026-1775635200-1775667600@global.uncg.edu
SUMMARY:Global Symposium
DESCRIPTION:The Global Symposium is an event organized by the Global Engagement Office in collaboration with faculty and staff partners from across campus. This is an opportunity for faculty\, staff\, and students to connect with a community of like-minded global citizens\, to share your global work\, and to be recognized for your contributions to creating high impact global learning opportunities for everyone at UNCG.  \n\n\n\nCome ready to discuss your latest projects\, new strategies\, and best practices in global engagement. Showcase your global work and learn new ideas to enhance your professional practice as we celebrate and advance our shared commitment to global engagement. 
URL:https://global.uncg.edu/event/global-symposium/
LOCATION:Elliott University Center\, 507 Stirling St.\, Greensboro\, North Carolina\, 27412
ORGANIZER;CN="Global Engagement Office":MAILTO:geo@uncg.edu
END:VEVENT
BEGIN:VEVENT
DTSTART;TZID=America/New_York:20260407T183000
DTEND;TZID=America/New_York:20260407T200000
DTSTAMP:20260419T084113
CREATED:20260113T155527Z
LAST-MODIFIED:20260116T142804Z
UID:10000025-1775586600-1775592000@global.uncg.edu
SUMMARY:Global Arts Open Mic
DESCRIPTION:We are excited to grow our Annual Global Symposium with the addition of a Global Arts Open Mic to showcase art and talent from around the globe. This event will take place the evening of April 7\, 2026 in EUC Claxton at 6:30pm.
URL:https://global.uncg.edu/event/global-arts-open-mic/
LOCATION:Elliott University Center\, 507 Stirling St.\, Greensboro\, North Carolina\, 27412
ORGANIZER;CN="Global Engagement Office":MAILTO:geo@uncg.edu
END:VEVENT
BEGIN:VEVENT
DTSTART;TZID=America/New_York:20260401T120000
DTEND;TZID=America/New_York:20260401T130000
DTSTAMP:20260419T084113
CREATED:20251030T181816Z
LAST-MODIFIED:20251030T181819Z
UID:10000023-1775044800-1775048400@global.uncg.edu
SUMMARY:Lunch and Learn: English as a Lingua Franca: Using English to Promote Prosocial Intentions Among Bilingual Consumers
DESCRIPTION:
URL:https://global.uncg.edu/event/lunch-and-learn-english-as-a-lingua-franca-using-english-to-promote-prosocial-intentions-among-bilingual-consumers/
LOCATION:Foust 206\, 1010 Administration Dr\, Greensboro\, North Carolina\, 27412
END:VEVENT
BEGIN:VEVENT
DTSTART;TZID=America/New_York:20260326T170000
DTEND;TZID=America/New_York:20260326T190000
DTSTAMP:20260419T084113
CREATED:20260225T192433Z
LAST-MODIFIED:20260227T142323Z
UID:10000027-1774544400-1774551600@global.uncg.edu
SUMMARY:Open Mic Open Minds
DESCRIPTION:Looking for a space to talk about life as an international student? Join us for an open and welcoming conversation where students come together to discuss topics THAT MATTER — from academics and career goals to cultural adjustment and building community. \n\n\n\nWhether you want to share your experiences\, ask questions\, listen\, or simply connect with others\, this is your space to learn\, reflect\, and grow alongside fellow international students. \n\n\n\nRefreshments provided
URL:https://global.uncg.edu/event/open-mic-open-minds/
END:VEVENT
BEGIN:VEVENT
DTSTART;TZID=America/New_York:20260318T120000
DTEND;TZID=America/New_York:20260318T130000
DTSTAMP:20260419T084113
CREATED:20251030T181515Z
LAST-MODIFIED:20251030T181517Z
UID:10000022-1773835200-1773838800@global.uncg.edu
SUMMARY:Lunch and Learn: Supporting International Students in Uncertain Sociopolitical Times: Mental Health and Career Guidance Strategies for Higher Education
DESCRIPTION:
URL:https://global.uncg.edu/event/lunch-and-learn-supporting-international-students-in-uncertain-sociopolitical-times-mental-health-and-career-guidance-strategies-for-higher-education/
LOCATION:Foust 206\, 1010 Administration Dr\, Greensboro\, North Carolina\, 27412
END:VEVENT
BEGIN:VEVENT
DTSTART;TZID=America/New_York:20260304T120000
DTEND;TZID=America/New_York:20260304T130000
DTSTAMP:20260419T084113
CREATED:20251030T181225Z
LAST-MODIFIED:20251030T181227Z
UID:10000021-1772625600-1772629200@global.uncg.edu
SUMMARY:Lunch and Learn: Teaming Up Across Borders: How to Make International Academic Collaboration Work
DESCRIPTION:
URL:https://global.uncg.edu/event/lunch-and-learn-teaming-up-across-borders-how-to-make-international-academic-collaboration-work/2026-03-04/
LOCATION:Foust 206\, 1010 Administration Dr\, Greensboro\, North Carolina\, 27412
END:VEVENT
BEGIN:VEVENT
DTSTART;TZID=America/New_York:20260218T120000
DTEND;TZID=America/New_York:20260218T130000
DTSTAMP:20260419T084113
CREATED:20251030T181002Z
LAST-MODIFIED:20251030T181004Z
UID:10000020-1771416000-1771419600@global.uncg.edu
SUMMARY:Lunch and Learn: Curriculum Integration and Advising for Study Abroad
DESCRIPTION:
URL:https://global.uncg.edu/event/lunch-and-learn-curriculum-integration-and-advising-for-study-abroad/
LOCATION:Foust 206\, 1010 Administration Dr\, Greensboro\, North Carolina\, 27412
END:VEVENT
BEGIN:VEVENT
DTSTART;TZID=America/New_York:20260204T120000
DTEND;TZID=America/New_York:20260204T130000
DTSTAMP:20260419T084113
CREATED:20251030T180748Z
LAST-MODIFIED:20251030T180750Z
UID:10000019-1770206400-1770210000@global.uncg.edu
SUMMARY:Lunch and Learn: Model United Nations at UNCG (and Beyond)
DESCRIPTION:
URL:https://global.uncg.edu/event/lunch-and-learn-model-united-nations-at-uncg-and-beyond/
LOCATION:Foust 206\, 1010 Administration Dr\, Greensboro\, North Carolina\, 27412
END:VEVENT
BEGIN:VEVENT
DTSTART;TZID=America/New_York:20260128T120000
DTEND;TZID=America/New_York:20260128T130000
DTSTAMP:20260419T084113
CREATED:20251030T175527Z
LAST-MODIFIED:20251030T180410Z
UID:10000018-1769601600-1769605200@global.uncg.edu
SUMMARY:Lunch and Learn: Developing a Faculty-Led Study Abroad Program
DESCRIPTION:
URL:https://global.uncg.edu/event/lunch-and-learn-developing-a-faculty-led-study-abroad-program/
LOCATION:Foust 206\, 1010 Administration Dr\, Greensboro\, North Carolina\, 27412
END:VEVENT
BEGIN:VEVENT
DTSTART;TZID=America/New_York:20251112T120000
DTEND;TZID=America/New_York:20251112T130000
DTSTAMP:20260419T084113
CREATED:20251030T175332Z
LAST-MODIFIED:20251030T180242Z
UID:10000017-1762948800-1762952400@global.uncg.edu
SUMMARY:Lunch and Learn: Diasporas and Conflict
DESCRIPTION:
URL:https://global.uncg.edu/event/lunch-and-learn-diasporas-and-conflict/
LOCATION:Foust 206\, 1010 Administration Dr\, Greensboro\, North Carolina\, 27412
END:VEVENT
BEGIN:VEVENT
DTSTART;TZID=America/New_York:20251029T000000
DTEND;TZID=America/New_York:20251029T130000
DTSTAMP:20260419T084113
CREATED:20251028T135303Z
LAST-MODIFIED:20251030T180542Z
UID:10000016-1761696000-1761742800@global.uncg.edu
SUMMARY:Lunch and Learn: Navigating the International Student Journey
DESCRIPTION:
URL:https://global.uncg.edu/event/lunch-and-learn/
LOCATION:Foust 206\, 1010 Administration Dr\, Greensboro\, North Carolina\, 27412
END:VEVENT
BEGIN:VEVENT
DTSTART;TZID=America/New_York:20250404T090000
DTEND;TZID=America/New_York:20250404T140000
DTSTAMP:20260419T084113
CREATED:20250212T143941Z
LAST-MODIFIED:20250327T014222Z
UID:10000009-1743757200-1743775200@global.uncg.edu
SUMMARY:Global Symposium 2025
DESCRIPTION:The Global Symposium is a new event organized by the Global Engagement Office in collaboration with faculty and staff partners from across campus. This is an opportunity for faculty\, staff\, and students to connect with a community of like-minded global citizens\, to share your global work\, and to be recognized for your contributions to creating high impact global learning opportunities for everyone at UNCG.
URL:https://global.uncg.edu/event/global-symposium-2025/
LOCATION:Elliott University Center\, 507 Stirling St.\, Greensboro\, North Carolina\, 27412
ATTACH;FMTTYPE=image/png:https://global.uncg.edu/wp-content/uploads/2025/02/Global-Symposium-Save-the-Date.png
END:VEVENT
BEGIN:VEVENT
DTSTART;TZID=America/New_York:20250403T160000
DTEND;TZID=America/New_York:20250403T173000
DTSTAMP:20260419T084113
CREATED:20250220T202320Z
LAST-MODIFIED:20250220T202322Z
UID:10000014-1743696000-1743701400@global.uncg.edu
SUMMARY:ISSS Coffee hour
DESCRIPTION:Please join us for Coffee Hour: Celebrating Eid al-Fitr 2025 – featuring cultural food dishes typical of an Eid al-Fitr celebration!
URL:https://global.uncg.edu/event/isss-coffee-hour/
END:VEVENT
BEGIN:VEVENT
DTSTART;TZID=America/New_York:20250315T080000
DTEND;TZID=America/New_York:20250315T170000
DTSTAMP:20260419T084113
CREATED:20250212T153225Z
LAST-MODIFIED:20250212T153228Z
UID:10000010-1742025600-1742058000@global.uncg.edu
SUMMARY:New Faculty-Led Program Application Deadline
DESCRIPTION:
URL:https://global.uncg.edu/event/new-faculty-led-program-application-deadline/
ATTACH;FMTTYPE=image/jpeg:https://global.uncg.edu/wp-content/uploads/2025/02/New-FLP-deadline.jpg
END:VEVENT
BEGIN:VEVENT
DTSTART;TZID=America/New_York:20250306T080000
DTEND;TZID=America/New_York:20250306T170000
DTSTAMP:20260419T084113
CREATED:20250220T201606Z
LAST-MODIFIED:20250220T201609Z
UID:10000013-1741248000-1741280400@global.uncg.edu
SUMMARY:Gilman Study Abroad Scholarship Deadline
DESCRIPTION:
URL:https://global.uncg.edu/event/gilman-study-abroad-scholarship-deadline/
END:VEVENT
BEGIN:VEVENT
DTSTART;TZID=America/New_York:20250301T080000
DTEND;TZID=America/New_York:20250301T170000
DTSTAMP:20260419T084113
CREATED:20250220T201227Z
LAST-MODIFIED:20250220T201233Z
UID:10000012-1740816000-1740848400@global.uncg.edu
SUMMARY:Summer 2025 Study Abroad Application Deadline
DESCRIPTION:
URL:https://global.uncg.edu/event/summer-2025-study-abroad-application-deadline/
END:VEVENT
BEGIN:VEVENT
DTSTART;TZID=America/New_York:20250217T080000
DTEND;TZID=America/New_York:20250217T170000
DTSTAMP:20260419T084113
CREATED:20250212T155538Z
LAST-MODIFIED:20250212T155540Z
UID:10000011-1739779200-1739811600@global.uncg.edu
SUMMARY:Study Abroad Application Deadline
DESCRIPTION:
URL:https://global.uncg.edu/event/study-abroad-application-deadline/
ATTACH;FMTTYPE=image/png:https://global.uncg.edu/wp-content/uploads/2025/02/SAE-Fall25-deadline.png
END:VEVENT
BEGIN:VEVENT
DTSTART;TZID=America/New_York:20241122T110000
DTEND;TZID=America/New_York:20241122T150000
DTSTAMP:20260419T084113
CREATED:20240925T172418Z
LAST-MODIFIED:20241115T040332Z
UID:10000002-1732273200-1732287600@global.uncg.edu
SUMMARY:GEO Presents the 2024 Culture Carnival!
DESCRIPTION:The International Cultural Carnival will be held on the last day of International Education Week (IEW) from 11:00 a.m. to 3:00 p.m. \n\n\n\nMark your calendar! \n\n\n\n\nSee Full IEW Schedule Here!
URL:https://global.uncg.edu/event/culture-carnival-2024/
ATTACH;FMTTYPE=image/png:https://global.uncg.edu/wp-content/uploads/2024/09/geo-culture-carnival-2024.png
END:VEVENT
BEGIN:VEVENT
DTSTART;TZID=America/New_York:20241119T160000
DTEND;TZID=America/New_York:20241119T180000
DTSTAMP:20260419T084113
CREATED:20240925T173637Z
LAST-MODIFIED:20241115T040207Z
UID:10000003-1732032000-1732039200@global.uncg.edu
SUMMARY:International Education Week Opening Ceremonies
DESCRIPTION:Join us to celebrate International Education Week in the opening ceremonies\, featuring food\, performances\, and photo contest winners! \n\n\n\n\nSee Full IEW Schedule Here!
URL:https://global.uncg.edu/event/2024-international-education-week-opening-ceremonies/
LOCATION:EUC Auditorium\, 1400 Spring Garden Street\, Greensboro\, North Carolina\, 27412\, United States
ATTACH;FMTTYPE=image/png:https://global.uncg.edu/wp-content/uploads/2024/09/IEW-Opening-Ceremonies-Fall-2024.png
END:VEVENT
BEGIN:VEVENT
DTSTART;TZID=America/New_York:20241118T080000
DTEND;TZID=America/New_York:20241122T170000
DTSTAMP:20260419T084113
CREATED:20241115T040525Z
LAST-MODIFIED:20241115T040725Z
UID:10000007-1731916800-1732294800@global.uncg.edu
SUMMARY:International Education Week: Full Schedule
DESCRIPTION:
URL:https://global.uncg.edu/iew#new_tab
ATTACH;FMTTYPE=image/png:https://global.uncg.edu/wp-content/uploads/2024/10/2024-IEW-Schedule.png
END:VEVENT
BEGIN:VEVENT
DTSTART;TZID=America/New_York:20241114T160000
DTEND;TZID=America/New_York:20241114T170000
DTSTAMP:20260419T084113
CREATED:20240925T174645Z
LAST-MODIFIED:20240925T174739Z
UID:10000006-1731600000-1731603600@global.uncg.edu
SUMMARY:International Coffee Hours
DESCRIPTION:Join GEO for a relaxing cup of coffee or tea from 4-5pm! Make new friends\, connect with peers\, and discover new social networking opportunities.
URL:https://global.uncg.edu/event/international-coffee-hours-2024-11/
LOCATION:EUC Dogwood\, 1400 Spring Garden Street\, Greensboro\, North Carolina\, 27412\, United States
ATTACH;FMTTYPE=image/png:https://global.uncg.edu/wp-content/uploads/2024/09/Coffee-Hours-square.png
END:VEVENT
BEGIN:VEVENT
DTSTART;TZID=America/New_York:20241024T160000
DTEND;TZID=America/New_York:20241024T170000
DTSTAMP:20260419T084113
CREATED:20240925T174541Z
LAST-MODIFIED:20240925T175020Z
UID:10000005-1729785600-1729789200@global.uncg.edu
SUMMARY:International Coffee Hours
DESCRIPTION:Join GEO for a relaxing cup of coffee or tea from 4-5pm! Make new friends\, connect with peers\, and discover new social networking opportunities.
URL:https://global.uncg.edu/event/international-coffee-hours-2024-10/
LOCATION:EUC Dogwood\, 1400 Spring Garden Street\, Greensboro\, North Carolina\, 27412\, United States
ATTACH;FMTTYPE=image/png:https://global.uncg.edu/wp-content/uploads/2024/09/Coffee-Hours-square.png
END:VEVENT
BEGIN:VEVENT
DTSTART;TZID=America/New_York:20240926T160000
DTEND;TZID=America/New_York:20240926T170000
DTSTAMP:20260419T084113
CREATED:20240925T174442Z
LAST-MODIFIED:20240925T174826Z
UID:10000004-1727366400-1727370000@global.uncg.edu
SUMMARY:International Coffee Hours
DESCRIPTION:Join GEO for a relaxing cup of coffee or tea from 4-5pm! Make new friends\, connect with peers\, and discover new social networking opportunities.
URL:https://global.uncg.edu/event/international-coffee-hours-2024-09/
LOCATION:EUC Dogwood\, 1400 Spring Garden Street\, Greensboro\, North Carolina\, 27412\, United States
ATTACH;FMTTYPE=image/png:https://global.uncg.edu/wp-content/uploads/2024/09/Coffee-Hours-square.png
END:VEVENT
END:VCALENDAR